BEGIN:VCALENDAR
VERSION:2.0
PRODID:-//Parksville Beach Festival - ECPv6.12.0.1//NONSGML v1.0//EN
CALSCALE:GREGORIAN
METHOD:PUBLISH
X-ORIGINAL-URL:https://www.parksvillebeachfest.ca
X-WR-CALDESC:Events for Parksville Beach Festival
REFRESH-INTERVAL;VALUE=DURATION:PT1H
X-Robots-Tag:noindex
X-PUBLISHED-TTL:PT1H
BEGIN:VTIMEZONE
TZID:America/Los_Angeles
BEGIN:DAYLIGHT
TZOFFSETFROM:-0800
TZOFFSETTO:-0700
TZNAME:PDT
DTSTART:20250309T100000
END:DAYLIGHT
BEGIN:STANDARD
TZOFFSETFROM:-0700
TZOFFSETTO:-0800
TZNAME:PST
DTSTART:20251102T090000
END:STANDARD
END:VTIMEZONE
BEGIN:VEVENT
DTSTART;TZID=America/Los_Angeles:20250801T180000
DTEND;TZID=America/Los_Angeles:20250801T200000
DTSTAMP:20260425T211454
CREATED:20250120T202137Z
LAST-MODIFIED:20250120T202137Z
UID:3463-1754071200-1754078400@www.parksvillebeachfest.ca
SUMMARY:Tim Hortons Summer Concert Series
DESCRIPTION:
URL:https://www.parksvillebeachfest.ca/event-calendar/tim-hortons-summer-concert-series-3/
END:VEVENT
BEGIN:VEVENT
DTSTART;TZID=America/Los_Angeles:20250802T180000
DTEND;TZID=America/Los_Angeles:20250802T200000
DTSTAMP:20260425T211454
CREATED:20250120T202211Z
LAST-MODIFIED:20250120T202211Z
UID:3465-1754157600-1754164800@www.parksvillebeachfest.ca
SUMMARY:Tim Hortons Summer Concert Series
DESCRIPTION:
URL:https://www.parksvillebeachfest.ca/event-calendar/tim-hortons-summer-concert-series-4/
END:VEVENT
BEGIN:VEVENT
DTSTART;VALUE=DATE:20250808
DTEND;VALUE=DATE:20250811
DTSTAMP:20260425T211454
CREATED:20250120T202402Z
LAST-MODIFIED:20250417T200201Z
UID:3471-1754611200-1754870399@www.parksvillebeachfest.ca
SUMMARY:Beachfest Rocks Music Festival
DESCRIPTION:
URL:https://www.parksvillebeachfest.ca/event-calendar/beachfest-rocks-music-festival-4/
END:VEVENT
BEGIN:VEVENT
DTSTART;TZID=America/Los_Angeles:20250815T180000
DTEND;TZID=America/Los_Angeles:20250815T200000
DTSTAMP:20260425T211454
CREATED:20250120T202253Z
LAST-MODIFIED:20250120T202253Z
UID:3467-1755280800-1755288000@www.parksvillebeachfest.ca
SUMMARY:Tim Hortons Summer Concert Series
DESCRIPTION:
URL:https://www.parksvillebeachfest.ca/event-calendar/tim-hortons-summer-concert-series-5/
END:VEVENT
BEGIN:VEVENT
DTSTART;TZID=America/Los_Angeles:20250816T180000
DTEND;TZID=America/Los_Angeles:20250816T200000
DTSTAMP:20260425T211454
CREATED:20250120T202332Z
LAST-MODIFIED:20250120T202332Z
UID:3469-1755367200-1755374400@www.parksvillebeachfest.ca
SUMMARY:Tim Hortons Summer Concert Series
DESCRIPTION:
URL:https://www.parksvillebeachfest.ca/event-calendar/tim-hortons-summer-concert-series-6/
END:VEVENT
BEGIN:VEVENT
DTSTART;TZID=America/Los_Angeles:20250817T140000
DTEND;TZID=America/Los_Angeles:20250817T180000
DTSTAMP:20260425T211454
CREATED:20250120T202435Z
LAST-MODIFIED:20250120T202435Z
UID:3473-1755439200-1755453600@www.parksvillebeachfest.ca
SUMMARY:Beachfest Final Day Concert
DESCRIPTION:
URL:https://www.parksvillebeachfest.ca/event-calendar/beachfest-final-day-concert/
END:VEVENT
END:VCALENDAR